BEGIN:VCALENDAR
VERSION:2.0
PRODID:-//www.asteraz.org//NONSGML kigkonsult.se iCalcreator 2.30.10//
CALSCALE:GREGORIAN
METHOD:PUBLISH
UID:0c1ecc6c-5d97-4eca-afb7-407c966f9427
X-WR-CALDESC:Get your day moving in the right direction with some exercise!
  This event is free to attend but does require pre-registration and has li
 mited capacity.
X-WR-RELCALID:f93bdd2908507cf6a92193112150fe71
X-WR-TIMEZONE:America/Denver
BEGIN:VTIMEZONE
TZID:America/Denver
BEGIN:STANDARD
TZNAME:MST
DTSTART:20311102T020000
TZOFFSETFROM:-0600
TZOFFSETTO:-0700
RDATE:20321107T020000
END:STANDARD
BEGIN:DAYLIGHT
TZNAME:MDT
DTSTART:20310309T020000
TZOFFSETFROM:-0700
TZOFFSETTO:-0600
RDATE:20320314T020000
RDATE:20330313T020000
END:DAYLIGHT
END:VTIMEZONE
BEGIN:VEVENT
UID:28844a13-93ac-43be-a54c-a8afadb8da24
DTSTAMP:20260425T195451Z
DESCRIPTION:Get your day moving in the right direction with some exercise! 
 This event is free to attend but does require pre-registration and has lim
 ited capacity.
DTSTART;TZID=America/Denver:20311231T081500
DTEND;TZID=America/Denver:20311231T090000
LOCATION:7550 East Adobe Street\, Mesa\, AZ 85207 US
SUMMARY:RM Stretch & Flex
END:VEVENT
END:VCALENDAR
