BEGIN:VCALENDAR
VERSION:2.0
PRODID:-//www.asteraz.org//NONSGML kigkonsult.se iCalcreator 2.30.10//
CALSCALE:GREGORIAN
METHOD:PUBLISH
UID:bea30ffb-3807-4160-9422-13963a88b480
X-WR-CALDESC:Join us at the Aster Red Mountain Senior Center every Tuesday 
 and Thursday to play Bingo for Fun. RSVP in advance to reserve your spot.
X-WR-RELCALID:43ef87945d4e8ca36c5b62527fafccd4
X-WR-TIMEZONE:America/Denver
BEGIN:VTIMEZONE
TZID:America/Denver
BEGIN:STANDARD
TZNAME:MST
DTSTART:20311102T020000
TZOFFSETFROM:-0600
TZOFFSETTO:-0700
RDATE:20321107T020000
END:STANDARD
BEGIN:DAYLIGHT
TZNAME:MDT
DTSTART:20310309T020000
TZOFFSETFROM:-0700
TZOFFSETTO:-0600
RDATE:20320314T020000
RDATE:20330313T020000
END:DAYLIGHT
END:VTIMEZONE
BEGIN:VEVENT
UID:44de4bf4-6dd8-42df-aa3a-fbbe5020db7f
DTSTAMP:20260425T200433Z
DESCRIPTION:Join us at the Aster Red Mountain Senior Center every Tuesday a
 nd Thursday to play Bingo for Fun. RSVP in advance to reserve your spot.
DTSTART;TZID=America/Denver:20311230T123000
DTEND;TZID=America/Denver:20311230T143000
LOCATION:7550 East Adobe Street\, Mesa\, AL 85207 US
SUMMARY:Bingo! For Fun at the Red Mountain Senior Center
END:VEVENT
END:VCALENDAR
