BEGIN:VCALENDAR
VERSION:2.0
PRODID:-//www.asteraz.org//NONSGML kigkonsult.se iCalcreator 2.30.10//
CALSCALE:GREGORIAN
METHOD:PUBLISH
UID:ad989f25-1e8d-41eb-abc9-6e5e034b623f
X-WR-CALDESC:Enjoy good company while crafting creative pieces.
X-WR-RELCALID:64e2aa52ed6e4d4046bc7bde710fc4b9
X-WR-TIMEZONE:America/Denver
BEGIN:VTIMEZONE
TZID:America/Denver
BEGIN:STANDARD
TZNAME:MST
DTSTART:20311102T020000
TZOFFSETFROM:-0600
TZOFFSETTO:-0700
RDATE:20321107T020000
END:STANDARD
BEGIN:DAYLIGHT
TZNAME:MDT
DTSTART:20310309T020000
TZOFFSETFROM:-0700
TZOFFSETTO:-0600
RDATE:20320314T020000
RDATE:20330313T020000
END:DAYLIGHT
END:VTIMEZONE
BEGIN:VEVENT
UID:40ef65cf-5f71-43b8-ac37-628ba413d7df
DTSTAMP:20260425T201125Z
DESCRIPTION:Enjoy good company while crafting creative pieces.
DTSTART;TZID=America/Denver:20311230T083000
DTEND;TZID=America/Denver:20311230T120000
LOCATION:7550 East Adobe Street\, Mesa\, AZ 85207 US
SUMMARY:Stitch & Chat at the Aster Red Mountain Senior Center
END:VEVENT
END:VCALENDAR
