BEGIN:VCALENDAR
VERSION:2.0
PRODID:-//www.asteraz.org//NONSGML kigkonsult.se iCalcreator 2.30.10//
CALSCALE:GREGORIAN
METHOD:PUBLISH
UID:3b164c95-e580-49c1-8154-7e42c7779ee9
X-WR-CALDESC:Join us at Aster's Downtown Mesa Senior Center every Friday to
  play Bingo for Cash. RSVP in advance to the Center\, spots are limited.
X-WR-RELCALID:ef1cbe6200d11bbb502948b0f11ddd82
X-WR-TIMEZONE:America/Denver
BEGIN:VTIMEZONE
TZID:America/Denver
BEGIN:STANDARD
TZNAME:MST
DTSTART:20311102T020000
TZOFFSETFROM:-0600
TZOFFSETTO:-0700
RDATE:20321107T020000
END:STANDARD
BEGIN:DAYLIGHT
TZNAME:MDT
DTSTART:20310309T020000
TZOFFSETFROM:-0700
TZOFFSETTO:-0600
RDATE:20320314T020000
RDATE:20330313T020000
END:DAYLIGHT
END:VTIMEZONE
BEGIN:VEVENT
UID:0e51add2-3518-49ba-a10a-af0af3529c07
DTSTAMP:20260425T201349Z
DESCRIPTION:Join us at Aster's Downtown Mesa Senior Center every Friday to 
 play Bingo for Cash. RSVP in advance to the Center\, spots are limited.
DTSTART;TZID=America/Denver:20311226T130000
DTEND;TZID=America/Denver:20311226T150000
LOCATION:247 N. Macdonald Street\, Mesa\, AZ 85201 US
SUMMARY:Bingo! For Money
END:VEVENT
END:VCALENDAR
