BEGIN:VCALENDAR
VERSION:2.0
PRODID:-//www.asteraz.org//NONSGML kigkonsult.se iCalcreator 2.30.10//
CALSCALE:GREGORIAN
METHOD:PUBLISH
UID:a772ab32-5502-4907-b941-d236ea939dd3
X-WR-CALDESC:Join the guys to make new friends.
X-WR-RELCALID:c2655aaf879a9b28fc60a95f793b1910
X-WR-TIMEZONE:America/Denver
BEGIN:VTIMEZONE
TZID:America/Denver
BEGIN:STANDARD
TZNAME:MST
DTSTART:20311102T020000
TZOFFSETFROM:-0600
TZOFFSETTO:-0700
RDATE:20321107T020000
END:STANDARD
BEGIN:DAYLIGHT
TZNAME:MDT
DTSTART:20310309T020000
TZOFFSETFROM:-0700
TZOFFSETTO:-0600
RDATE:20320314T020000
RDATE:20330313T020000
END:DAYLIGHT
END:VTIMEZONE
BEGIN:VEVENT
UID:5538c1b0-0f15-4b42-8d52-ac5d517ce0e9
DTSTAMP:20260425T195902Z
DESCRIPTION:Join the guys to make new friends.
DTSTART;TZID=America/Denver:20311225T123000
DTEND;TZID=America/Denver:20311225T133000
LOCATION:7550 East Adobe Street\, Mesa\, AZ 85207 US
SUMMARY:The Men's Crew
END:VEVENT
END:VCALENDAR
