BEGIN:VCALENDAR
VERSION:2.0
PRODID:-//www.asteraz.org//NONSGML kigkonsult.se iCalcreator 2.30.10//
CALSCALE:GREGORIAN
METHOD:PUBLISH
UID:5a995d2d-01a8-4748-91df-d9f7310f1a74
X-WR-CALDESC:Join us every Thursday at the Red Mountain Senior Center for a
  fun game of Mexican Train Dominoes. No experience? No problem! We're here
  to have fun.
X-WR-RELCALID:f9102a7e7a520e54faafd565be2cc32c
X-WR-TIMEZONE:America/Denver
BEGIN:VTIMEZONE
TZID:America/Denver
BEGIN:STANDARD
TZNAME:MST
DTSTART:20311102T020000
TZOFFSETFROM:-0600
TZOFFSETTO:-0700
RDATE:20321107T020000
END:STANDARD
BEGIN:DAYLIGHT
TZNAME:MDT
DTSTART:20310309T020000
TZOFFSETFROM:-0700
TZOFFSETTO:-0600
RDATE:20320314T020000
RDATE:20330313T020000
END:DAYLIGHT
END:VTIMEZONE
BEGIN:VEVENT
UID:9a10062d-59ba-41b3-8420-3576da950755
DTSTAMP:20260425T195807Z
DESCRIPTION:Join us every Thursday at the Red Mountain Senior Center for a 
 fun game of Mexican Train Dominoes. No experience? No problem! We're here 
 to have fun.
DTSTART;TZID=America/Denver:20311225T123000
DTEND;TZID=America/Denver:20311225T153000
LOCATION:7550 East Adobe Street\, Mesa\, AZ 85207 US
SUMMARY:Mexican Train Dominoes
END:VEVENT
END:VCALENDAR
