BEGIN:VCALENDAR
VERSION:2.0
PRODID:-//www.asteraz.org//NONSGML kigkonsult.se iCalcreator 2.30.10//
CALSCALE:GREGORIAN
METHOD:PUBLISH
UID:08d7c470-e585-4133-b2d1-3c5bb5dc5420
X-WR-CALDESC:
X-WR-RELCALID:409d6415953c07ce31e447722b07288f
X-WR-TIMEZONE:America/Denver
BEGIN:VTIMEZONE
TZID:America/Denver
BEGIN:STANDARD
TZNAME:MST
DTSTART:20311102T020000
TZOFFSETFROM:-0600
TZOFFSETTO:-0700
RDATE:20321107T020000
END:STANDARD
BEGIN:DAYLIGHT
TZNAME:MDT
DTSTART:20310309T020000
TZOFFSETFROM:-0700
TZOFFSETTO:-0600
RDATE:20320314T020000
RDATE:20330313T020000
END:DAYLIGHT
END:VTIMEZONE
BEGIN:VEVENT
UID:8e5b1fd3-335b-4c99-8e54-14288567755c
DTSTAMP:20260425T200744Z
DESCRIPTION:
DTSTART;TZID=America/Denver:20311225T094500
DTEND;TZID=America/Denver:20311225T104500
LOCATION:Mesa Downtown
SUMMARY:DT Chair Yoga
END:VEVENT
END:VCALENDAR
