BEGIN:VCALENDAR
VERSION:2.0
PRODID:-//www.asteraz.org//NONSGML kigkonsult.se iCalcreator 2.30.10//
CALSCALE:GREGORIAN
METHOD:PUBLISH
UID:ee68e4f8-450d-438a-ba9a-d68cbeeb4f34
X-WR-CALDESC:Have fun golfing digitally with friends. No experience necessa
 ry! The 'Wii' is a Nintendo game console focused on gentle movement. It is
  easy and fun to play\, and the crew will be more than happy to show you t
 he ropes.
X-WR-RELCALID:6257d7d63a06809187c05f59fee73888
X-WR-TIMEZONE:America/Denver
BEGIN:VTIMEZONE
TZID:America/Denver
BEGIN:STANDARD
TZNAME:MST
DTSTART:20311102T020000
TZOFFSETFROM:-0600
TZOFFSETTO:-0700
RDATE:20321107T020000
END:STANDARD
BEGIN:DAYLIGHT
TZNAME:MDT
DTSTART:20310309T020000
TZOFFSETFROM:-0700
TZOFFSETTO:-0600
RDATE:20320314T020000
RDATE:20330313T020000
END:DAYLIGHT
END:VTIMEZONE
BEGIN:VEVENT
UID:c1e1c58d-09ef-4f95-9409-5abcea1ef456
DTSTAMP:20260425T195450Z
DESCRIPTION:Have fun golfing digitally with friends. No experience necessar
 y! The 'Wii' is a Nintendo game console focused on gentle movement. It is 
 easy and fun to play\, and the crew will be more than happy to show you th
 e ropes.
DTSTART;TZID=America/Denver:20311225T080000
DTEND;TZID=America/Denver:20311225T110000
LOCATION:247 N. Macdonald Street\, Mesa\, AZ 85201 US
SUMMARY:Wii Golf
END:VEVENT
END:VCALENDAR
