BEGIN:VCALENDAR
VERSION:2.0
PRODID:-//www.asteraz.org//NONSGML kigkonsult.se iCalcreator 2.30.10//
CALSCALE:GREGORIAN
METHOD:PUBLISH
UID:b518b847-1f20-4f25-b4a2-70b5ba439fef
X-WR-CALDESC:
X-WR-RELCALID:40b7f9d9a1e099a90fcb673d27277cce
X-WR-TIMEZONE:America/Denver
BEGIN:VTIMEZONE
TZID:America/Denver
BEGIN:STANDARD
TZNAME:MST
DTSTART:20311102T020000
TZOFFSETFROM:-0600
TZOFFSETTO:-0700
RDATE:20321107T020000
END:STANDARD
BEGIN:DAYLIGHT
TZNAME:MDT
DTSTART:20310309T020000
TZOFFSETFROM:-0700
TZOFFSETTO:-0600
RDATE:20320314T020000
RDATE:20330313T020000
END:DAYLIGHT
END:VTIMEZONE
BEGIN:VEVENT
UID:64993f64-87d0-4e53-a6f0-49ea032fae36
DTSTAMP:20260425T195707Z
DESCRIPTION:
DTSTART;TZID=America/Denver:20311225T000000
DTEND;TZID=America/Denver:20311225T235900
LOCATION:
SUMMARY:Christmas Day
END:VEVENT
END:VCALENDAR
