BEGIN:VCALENDAR
VERSION:2.0
PRODID:-//www.asteraz.org//NONSGML kigkonsult.se iCalcreator 2.30.10//
CALSCALE:GREGORIAN
METHOD:PUBLISH
UID:d0bd6dfe-e3b3-42be-8b41-05c4c7031f52
X-WR-CALDESC:
X-WR-RELCALID:a5c1b8555e872dab822d6aade425e54e
X-WR-TIMEZONE:America/Denver
BEGIN:VTIMEZONE
TZID:America/Denver
BEGIN:STANDARD
TZNAME:MST
DTSTART:20311102T020000
TZOFFSETFROM:-0600
TZOFFSETTO:-0700
RDATE:20321107T020000
END:STANDARD
BEGIN:DAYLIGHT
TZNAME:MDT
DTSTART:20310309T020000
TZOFFSETFROM:-0700
TZOFFSETTO:-0600
RDATE:20320314T020000
RDATE:20330313T020000
END:DAYLIGHT
END:VTIMEZONE
BEGIN:VEVENT
UID:fa8e649d-44a5-4058-a810-1311b8220715
DTSTAMP:20260425T200246Z
DESCRIPTION:
DTSTART;TZID=America/Denver:20311225T000000
DTEND;TZID=America/Denver:20311225T235900
LOCATION:
SUMMARY:Christmas Day - Aster Closed
END:VEVENT
END:VCALENDAR
