BEGIN:VCALENDAR
VERSION:2.0
PRODID:-//www.asteraz.org//NONSGML kigkonsult.se iCalcreator 2.30.10//
CALSCALE:GREGORIAN
METHOD:PUBLISH
UID:0f8038b6-d2e0-41c9-99b8-66063ededa86
X-WR-CALDESC:Bedazzle rubber ducks in this fun and unique class every Wedne
 sday! \n\nCost: supplies
X-WR-RELCALID:18fdc146bb5772dc7d950ea44ad75de0
X-WR-TIMEZONE:America/Denver
BEGIN:VTIMEZONE
TZID:America/Denver
BEGIN:STANDARD
TZNAME:MST
DTSTART:20311102T020000
TZOFFSETFROM:-0600
TZOFFSETTO:-0700
RDATE:20321107T020000
END:STANDARD
BEGIN:DAYLIGHT
TZNAME:MDT
DTSTART:20310309T020000
TZOFFSETFROM:-0700
TZOFFSETTO:-0600
RDATE:20320314T020000
RDATE:20330313T020000
END:DAYLIGHT
END:VTIMEZONE
BEGIN:VEVENT
UID:7066ef6b-3a5a-43ed-9cbe-cf69496ce48f
DTSTAMP:20260425T200131Z
DESCRIPTION:Bedazzle rubber ducks in this fun and unique class every Wednes
 day! \n\nCost: supplies
DTSTART;TZID=America/Denver:20311224T123000
DTEND;TZID=America/Denver:20311224T150000
LOCATION:7550 East Adobe Street\, Mesa\, AZ 85207 US
SUMMARY:Diamond Art Duckies
END:VEVENT
END:VCALENDAR
