BEGIN:VCALENDAR
VERSION:2.0
PRODID:-//www.asteraz.org//NONSGML kigkonsult.se iCalcreator 2.30.10//
CALSCALE:GREGORIAN
METHOD:PUBLISH
UID:de0386a2-837b-4737-a55a-d01e17a381eb
X-WR-CALDESC:Cost: $25/month plus supplies\n\nJoin us for an adventure in a
 ll things quilting! Instructor Clarice will teach quilters of all levels. 
 Limited spots\, RSVP for more info.
X-WR-RELCALID:a8bdc1e67beb1ac2d2c75de21ca1398c
X-WR-TIMEZONE:America/Denver
BEGIN:VTIMEZONE
TZID:America/Denver
BEGIN:STANDARD
TZNAME:MST
DTSTART:20311102T020000
TZOFFSETFROM:-0600
TZOFFSETTO:-0700
RDATE:20321107T020000
END:STANDARD
BEGIN:DAYLIGHT
TZNAME:MDT
DTSTART:20310309T020000
TZOFFSETFROM:-0700
TZOFFSETTO:-0600
RDATE:20320314T020000
RDATE:20330313T020000
END:DAYLIGHT
END:VTIMEZONE
BEGIN:VEVENT
UID:8631e9b7-1358-4d88-b896-37c54976bfa9
DTSTAMP:20260425T195509Z
DESCRIPTION:Cost: $25/month plus supplies\n\nJoin us for an adventure in al
 l things quilting! Instructor Clarice will teach quilters of all levels. L
 imited spots\, RSVP for more info.
DTSTART;TZID=America/Denver:20311224T120000
DTEND;TZID=America/Denver:20311224T150000
LOCATION:247 N. Macdonald Street\, Mesa\, AZ 85201 US
SUMMARY:Quilting Class
END:VEVENT
END:VCALENDAR
