BEGIN:VCALENDAR
VERSION:2.0
PRODID:-//www.asteraz.org//NONSGML kigkonsult.se iCalcreator 2.30.10//
CALSCALE:GREGORIAN
METHOD:PUBLISH
UID:d59c067e-d50c-43c3-b3b6-dd27576f3b6e
X-WR-CALDESC:Join us for a relaxing walk while chatting with each other eve
 ry second and fourth Wednesday of the month at the Red Mountain Senior Cen
 ter.
X-WR-RELCALID:e54a6e32b63fdfb978c9425b37a14bc2
X-WR-TIMEZONE:America/Denver
BEGIN:VTIMEZONE
TZID:America/Denver
BEGIN:STANDARD
TZNAME:MST
DTSTART:20311102T020000
TZOFFSETFROM:-0600
TZOFFSETTO:-0700
RDATE:20321107T020000
END:STANDARD
BEGIN:DAYLIGHT
TZNAME:MDT
DTSTART:20310309T020000
TZOFFSETFROM:-0700
TZOFFSETTO:-0600
RDATE:20320314T020000
RDATE:20330313T020000
END:DAYLIGHT
END:VTIMEZONE
BEGIN:VEVENT
UID:345ffac8-4af9-46d6-bffe-cd2539d7f91d
DTSTAMP:20260425T195904Z
DESCRIPTION:Join us for a relaxing walk while chatting with each other ever
 y second and fourth Wednesday of the month at the Red Mountain Senior Cent
 er.
DTSTART;TZID=America/Denver:20311224T093000
DTEND;TZID=America/Denver:20311224T103000
LOCATION:7550 East Adobe Street\, Mesa\, AZ 85207 US
SUMMARY:Walkie Talkie
END:VEVENT
END:VCALENDAR
