BEGIN:VCALENDAR
VERSION:2.0
PRODID:-//www.asteraz.org//NONSGML kigkonsult.se iCalcreator 2.30.10//
CALSCALE:GREGORIAN
METHOD:PUBLISH
UID:0b5ea9dd-4b5f-4386-bac5-dc08e7edaef8
X-WR-CALDESC:A weekly group for people with hearing issues to chat and shar
 e their experiences.
X-WR-RELCALID:828b807840d951e157eb4987fd5578fa
X-WR-TIMEZONE:America/Denver
BEGIN:VTIMEZONE
TZID:America/Denver
BEGIN:STANDARD
TZNAME:MST
DTSTART:20311102T020000
TZOFFSETFROM:-0600
TZOFFSETTO:-0700
RDATE:20321107T020000
END:STANDARD
BEGIN:DAYLIGHT
TZNAME:MDT
DTSTART:20310309T020000
TZOFFSETFROM:-0700
TZOFFSETTO:-0600
RDATE:20320314T020000
RDATE:20330313T020000
END:DAYLIGHT
END:VTIMEZONE
BEGIN:VEVENT
UID:81c14f3a-16e7-441b-a03e-3922ddbb0bcf
DTSTAMP:20260425T200036Z
DESCRIPTION:A weekly group for people with hearing issues to chat and share
  their experiences.
DTSTART;TZID=America/Denver:20311223T103000
DTEND;TZID=America/Denver:20311223T150000
LOCATION:7550 East Adobe Street\, Mesa\, AZ 85207 US
SUMMARY:Deaf Support Group
END:VEVENT
END:VCALENDAR
