BEGIN:VCALENDAR
VERSION:2.0
PRODID:-//www.asteraz.org//NONSGML kigkonsult.se iCalcreator 2.30.10//
CALSCALE:GREGORIAN
METHOD:PUBLISH
UID:d36af2cc-8f8a-489c-a45f-7c8834f7df21
X-WR-CALDESC:Take a colorful journey into the world of art. Enjoy studying 
 the visual arts\, including painting\, sculpture\, architecture\, and othe
 r forms through the lens of the 'Art in Action' class series.
X-WR-RELCALID:a4d694649879d589f0c12ff007c6984b
X-WR-TIMEZONE:America/Denver
BEGIN:VTIMEZONE
TZID:America/Denver
BEGIN:STANDARD
TZNAME:MST
DTSTART:20311102T020000
TZOFFSETFROM:-0600
TZOFFSETTO:-0700
RDATE:20321107T020000
END:STANDARD
BEGIN:DAYLIGHT
TZNAME:MDT
DTSTART:20310309T020000
TZOFFSETFROM:-0700
TZOFFSETTO:-0600
RDATE:20320314T020000
RDATE:20330313T020000
END:DAYLIGHT
END:VTIMEZONE
BEGIN:VEVENT
UID:f41e72af-081c-4fdb-b43a-94b4c3f0e1b0
DTSTAMP:20260425T200028Z
DESCRIPTION:Take a colorful journey into the world of art. Enjoy studying t
 he visual arts\, including painting\, sculpture\, architecture\, and other
  forms through the lens of the 'Art in Action' class series.
DTSTART;TZID=America/Denver:20311223T093000
DTEND;TZID=America/Denver:20311223T103000
LOCATION:247 N. Macdonald Street\, Mesa\, AZ 85201 US
SUMMARY:Art in Action
END:VEVENT
END:VCALENDAR
