BEGIN:VCALENDAR
VERSION:2.0
PRODID:-//www.asteraz.org//NONSGML kigkonsult.se iCalcreator 2.30.10//
CALSCALE:GREGORIAN
METHOD:PUBLISH
UID:fd3ecb56-a9f9-42a3-bdbb-042f8fe1d0f9
X-WR-CALDESC:The plane is waiting on the tarmac to take you to fascinating 
 countries around the world.\n\nCapacity is limited.
X-WR-RELCALID:a95fc3791b40d92c37235288004bdfd8
X-WR-TIMEZONE:America/Denver
BEGIN:VTIMEZONE
TZID:America/Denver
BEGIN:STANDARD
TZNAME:MST
DTSTART:20311102T020000
TZOFFSETFROM:-0600
TZOFFSETTO:-0700
RDATE:20321107T020000
END:STANDARD
BEGIN:DAYLIGHT
TZNAME:MDT
DTSTART:20310309T020000
TZOFFSETFROM:-0700
TZOFFSETTO:-0600
RDATE:20320314T020000
RDATE:20330313T020000
END:DAYLIGHT
END:VTIMEZONE
BEGIN:VEVENT
UID:a86716b9-6573-4477-b0dc-37b3fc8c180e
DTSTAMP:20260425T195910Z
DESCRIPTION:The plane is waiting on the tarmac to take you to fascinating c
 ountries around the world.\n\nCapacity is limited.
DTSTART;TZID=America/Denver:20311222T140000
DTEND;TZID=America/Denver:20311222T150000
LOCATION:Mesa Downtown
SUMMARY:DT Virtual Travel
END:VEVENT
END:VCALENDAR
