BEGIN:VCALENDAR
VERSION:2.0
PRODID:-//www.asteraz.org//NONSGML kigkonsult.se iCalcreator 2.30.10//
CALSCALE:GREGORIAN
METHOD:PUBLISH
UID:28cf7ebb-6762-4754-bb40-e850df16621a
X-WR-CALDESC:Create magical diamond art!
X-WR-RELCALID:55dd8be18548c55fcb79f2d5bbde5aa3
X-WR-TIMEZONE:America/Denver
BEGIN:VTIMEZONE
TZID:America/Denver
BEGIN:STANDARD
TZNAME:MST
DTSTART:20311102T020000
TZOFFSETFROM:-0600
TZOFFSETTO:-0700
RDATE:20321107T020000
END:STANDARD
BEGIN:DAYLIGHT
TZNAME:MDT
DTSTART:20310309T020000
TZOFFSETFROM:-0700
TZOFFSETTO:-0600
RDATE:20320314T020000
RDATE:20330313T020000
END:DAYLIGHT
END:VTIMEZONE
BEGIN:VEVENT
UID:f82e2fd8-22aa-44ea-a80f-697e8c9f0c28
DTSTAMP:20260425T195605Z
DESCRIPTION:Create magical diamond art!
DTSTART;TZID=America/Denver:20311222T123000
DTEND;TZID=America/Denver:20311222T150000
LOCATION:7550 East Adobe Street\, Mesa\, AZ 85207 US
SUMMARY:Diamond Art
END:VEVENT
END:VCALENDAR
