BEGIN:VCALENDAR
VERSION:2.0
PRODID:-//www.asteraz.org//NONSGML kigkonsult.se iCalcreator 2.30.10//
CALSCALE:GREGORIAN
METHOD:PUBLISH
UID:7e6b5df4-5b5e-40c2-a83d-d11e09971985
X-WR-CALDESC:Have fun creating jewelry\, origami\, and other arts and craft
 s.
X-WR-RELCALID:da7ba4b65b0d6d0ad9dc688cd7f6ec02
X-WR-TIMEZONE:America/Denver
BEGIN:VTIMEZONE
TZID:America/Denver
BEGIN:STANDARD
TZNAME:MST
DTSTART:20311102T020000
TZOFFSETFROM:-0600
TZOFFSETTO:-0700
RDATE:20321107T020000
END:STANDARD
BEGIN:DAYLIGHT
TZNAME:MDT
DTSTART:20310309T020000
TZOFFSETFROM:-0700
TZOFFSETTO:-0600
RDATE:20320314T020000
RDATE:20330313T020000
END:DAYLIGHT
END:VTIMEZONE
BEGIN:VEVENT
UID:d61ac84e-61d0-421a-b48d-195e8c6445ae
DTSTAMP:20260425T195808Z
DESCRIPTION:Have fun creating jewelry\, origami\, and other arts and crafts
 .
DTSTART;TZID=America/Denver:20311219T090000
DTEND;TZID=America/Denver:20311219T110000
LOCATION:247 N. Macdonald Street\, Mesa\, AZ 85201 US
SUMMARY:Arts & Crafts
END:VEVENT
END:VCALENDAR
