BEGIN:VCALENDAR
VERSION:2.0
PRODID:-//www.asteraz.org//NONSGML kigkonsult.se iCalcreator 2.30.10//
CALSCALE:GREGORIAN
METHOD:PUBLISH
UID:bda82fc6-5606-4d53-8f85-44ae98221008
X-WR-CALDESC:Get your day moving in the right direction with some exercise!
  This event is free to attend but does require pre-registration and has li
 mited capacity.
X-WR-RELCALID:3fdb93c4ac23d24b4c2b35a6515c4aa2
X-WR-TIMEZONE:America/Denver
BEGIN:VTIMEZONE
TZID:America/Denver
BEGIN:STANDARD
TZNAME:MST
DTSTART:20311102T020000
TZOFFSETFROM:-0600
TZOFFSETTO:-0700
RDATE:20321107T020000
END:STANDARD
BEGIN:DAYLIGHT
TZNAME:MDT
DTSTART:20310309T020000
TZOFFSETFROM:-0700
TZOFFSETTO:-0600
RDATE:20320314T020000
RDATE:20330313T020000
END:DAYLIGHT
END:VTIMEZONE
BEGIN:VEVENT
UID:3ef720fc-53db-4a3b-8ccc-ca93967ee812
DTSTAMP:20260425T195416Z
DESCRIPTION:Get your day moving in the right direction with some exercise! 
 This event is free to attend but does require pre-registration and has lim
 ited capacity.
DTSTART;TZID=America/Denver:20311219T081500
DTEND;TZID=America/Denver:20311219T090000
LOCATION:7550 East Adobe Street\, Mesa\, AZ 85207 US
SUMMARY:RM Stretch & Flex
END:VEVENT
END:VCALENDAR
