BEGIN:VCALENDAR
VERSION:2.0
PRODID:-//www.asteraz.org//NONSGML kigkonsult.se iCalcreator 2.30.10//
CALSCALE:GREGORIAN
METHOD:PUBLISH
UID:f6a126b0-2abd-48d3-9db0-21c466faabf6
X-WR-CALDESC:FREE blood pressure screenings are offered at Aster's Downtown
  Senior Center every Thursday to all participants. Learn your numbers to b
 etter manage your health!
X-WR-RELCALID:233f8a5c40ef5e6c329629f8223625cf
X-WR-TIMEZONE:America/Denver
BEGIN:VTIMEZONE
TZID:America/Denver
BEGIN:STANDARD
TZNAME:MST
DTSTART:20311102T020000
TZOFFSETFROM:-0600
TZOFFSETTO:-0700
RDATE:20321107T020000
END:STANDARD
BEGIN:DAYLIGHT
TZNAME:MDT
DTSTART:20310309T020000
TZOFFSETFROM:-0700
TZOFFSETTO:-0600
RDATE:20320314T020000
RDATE:20330313T020000
END:DAYLIGHT
END:VTIMEZONE
BEGIN:VEVENT
UID:a7a1cb7f-0582-41fb-b179-edb85ee92577
DTSTAMP:20260425T200131Z
DESCRIPTION:FREE blood pressure screenings are offered at Aster's Downtown 
 Senior Center every Thursday to all participants. Learn your numbers to be
 tter manage your health!
DTSTART;TZID=America/Denver:20311218T100000
DTEND;TZID=America/Denver:20311218T110000
LOCATION:247 N. Macdonald Street\, Mesa\, AZ 85201 US
SUMMARY:Blood pressure screenings
END:VEVENT
END:VCALENDAR
