BEGIN:VCALENDAR
VERSION:2.0
PRODID:-//www.asteraz.org//NONSGML kigkonsult.se iCalcreator 2.30.10//
CALSCALE:GREGORIAN
METHOD:PUBLISH
UID:a8fb6c8f-40c1-48ca-91ad-5fad7e07feaf
X-WR-CALDESC:Have fun golfing digitally with friends. No experience necessa
 ry! The 'Wii' is a Nintendo game console focused on gentle movement. It is
  easy and fun to play\, and the crew will be more than happy to show you t
 he ropes.
X-WR-RELCALID:bc3c294f8705e5941959d9d170b296cf
X-WR-TIMEZONE:America/Denver
BEGIN:VTIMEZONE
TZID:America/Denver
BEGIN:STANDARD
TZNAME:MST
DTSTART:20311102T020000
TZOFFSETFROM:-0600
TZOFFSETTO:-0700
RDATE:20321107T020000
END:STANDARD
BEGIN:DAYLIGHT
TZNAME:MDT
DTSTART:20310309T020000
TZOFFSETFROM:-0700
TZOFFSETTO:-0600
RDATE:20320314T020000
RDATE:20330313T020000
END:DAYLIGHT
END:VTIMEZONE
BEGIN:VEVENT
UID:55485e11-fef6-4344-a7cf-05cdcffb6aab
DTSTAMP:20260425T195534Z
DESCRIPTION:Have fun golfing digitally with friends. No experience necessar
 y! The 'Wii' is a Nintendo game console focused on gentle movement. It is 
 easy and fun to play\, and the crew will be more than happy to show you th
 e ropes.
DTSTART;TZID=America/Denver:20311218T080000
DTEND;TZID=America/Denver:20311218T110000
LOCATION:247 N. Macdonald Street\, Mesa\, AZ 85201 US
SUMMARY:Wii Golf
END:VEVENT
END:VCALENDAR
