BEGIN:VCALENDAR
VERSION:2.0
PRODID:-//www.asteraz.org//NONSGML kigkonsult.se iCalcreator 2.30.10//
CALSCALE:GREGORIAN
METHOD:PUBLISH
UID:e7f77600-51f5-4ef5-98c1-ede63b3b2320
X-WR-CALDESC:Join Aster's Downtown Mesa Senior Center every Wednesday and p
 lay Bingo for fun. RSVP to the Center in advance\, as spots are limited.
X-WR-RELCALID:4de2aa2bbf64b93846cf436cad1204fd
X-WR-TIMEZONE:America/Denver
BEGIN:VTIMEZONE
TZID:America/Denver
BEGIN:STANDARD
TZNAME:MST
DTSTART:20311102T020000
TZOFFSETFROM:-0600
TZOFFSETTO:-0700
RDATE:20321107T020000
END:STANDARD
BEGIN:DAYLIGHT
TZNAME:MDT
DTSTART:20310309T020000
TZOFFSETFROM:-0700
TZOFFSETTO:-0600
RDATE:20320314T020000
RDATE:20330313T020000
END:DAYLIGHT
END:VTIMEZONE
BEGIN:VEVENT
UID:01a971ce-0567-4595-9d0e-2f78245e2c9d
DTSTAMP:20260425T195548Z
DESCRIPTION:Join Aster's Downtown Mesa Senior Center every Wednesday and pl
 ay Bingo for fun. RSVP to the Center in advance\, as spots are limited.
DTSTART;TZID=America/Denver:20311217T123000
DTEND;TZID=America/Denver:20311217T150000
LOCATION:247 N. Macdonald Street\, Mesa\, AZ 85201 US
SUMMARY:Bingo! For Fun
END:VEVENT
END:VCALENDAR
