BEGIN:VCALENDAR
VERSION:2.0
PRODID:-//www.asteraz.org//NONSGML kigkonsult.se iCalcreator 2.30.10//
CALSCALE:GREGORIAN
METHOD:PUBLISH
UID:bfa6fe22-8cd1-4e85-8bc7-b92d3292827d
X-WR-CALDESC:Enjoy good company while crafting creative pieces.
X-WR-RELCALID:a29e25da59293a05fdefe4dfab69ffed
X-WR-TIMEZONE:America/Denver
BEGIN:VTIMEZONE
TZID:America/Denver
BEGIN:STANDARD
TZNAME:MST
DTSTART:20311102T020000
TZOFFSETFROM:-0600
TZOFFSETTO:-0700
RDATE:20321107T020000
END:STANDARD
BEGIN:DAYLIGHT
TZNAME:MDT
DTSTART:20310309T020000
TZOFFSETFROM:-0700
TZOFFSETTO:-0600
RDATE:20320314T020000
RDATE:20330313T020000
END:DAYLIGHT
END:VTIMEZONE
BEGIN:VEVENT
UID:31fa08dc-7ddf-4686-890c-5cc77835b77f
DTSTAMP:20260425T200803Z
DESCRIPTION:Enjoy good company while crafting creative pieces.
DTSTART;TZID=America/Denver:20311216T090000
DTEND;TZID=America/Denver:20311216T110000
LOCATION:247 N. Macdonald Street\, Mesa\, AZ 85201 US
SUMMARY:Stitch & Chat at the Mesa Downtown Senior Center
END:VEVENT
END:VCALENDAR
