BEGIN:VCALENDAR
VERSION:2.0
PRODID:-//www.asteraz.org//NONSGML kigkonsult.se iCalcreator 2.30.10//
CALSCALE:GREGORIAN
METHOD:PUBLISH
UID:430046b3-7a46-4531-a40f-aa8aca875189
X-WR-CALDESC:Join us every Monday morning for Mahjong for beginners at the 
 Mesa Red Mountain Senior Center.
X-WR-RELCALID:8b717db6cd2e68651840e6cadce1b9ff
X-WR-TIMEZONE:America/Denver
BEGIN:VTIMEZONE
TZID:America/Denver
BEGIN:STANDARD
TZNAME:MST
DTSTART:20311102T020000
TZOFFSETFROM:-0600
TZOFFSETTO:-0700
RDATE:20321107T020000
END:STANDARD
BEGIN:DAYLIGHT
TZNAME:MDT
DTSTART:20310309T020000
TZOFFSETFROM:-0700
TZOFFSETTO:-0600
RDATE:20320314T020000
RDATE:20330313T020000
END:DAYLIGHT
END:VTIMEZONE
BEGIN:VEVENT
UID:4d21dabc-aa15-43a1-8e5f-7c44197602d2
DTSTAMP:20260425T195705Z
DESCRIPTION:Join us every Monday morning for Mahjong for beginners at the M
 esa Red Mountain Senior Center.
DTSTART;TZID=America/Denver:20311215T093000
DTEND;TZID=America/Denver:20311215T120000
LOCATION:7550 East Adobe Street\, Mesa\, AZ 85207 US
SUMMARY:Mahjong for Beginners
END:VEVENT
END:VCALENDAR
