BEGIN:VCALENDAR
VERSION:2.0
PRODID:-//www.asteraz.org//NONSGML kigkonsult.se iCalcreator 2.30.10//
CALSCALE:GREGORIAN
METHOD:PUBLISH
UID:51897926-8f49-4e28-9cef-60fb10560cd4
X-WR-CALDESC:Just like the real thing! Join us every Monday and Friday for 
 a lively game of Wii Bowling. Never played before? No problem! Wii Bowling
  is intuitive and easy to learn. Every week\, plenty of newcomers give it 
 a try\, and some even get a few Strikes!
X-WR-RELCALID:f07bec2a997cce60c59f29c29653fe55
X-WR-TIMEZONE:America/Denver
BEGIN:VTIMEZONE
TZID:America/Denver
BEGIN:STANDARD
TZNAME:MST
DTSTART:20311102T020000
TZOFFSETFROM:-0600
TZOFFSETTO:-0700
RDATE:20321107T020000
END:STANDARD
BEGIN:DAYLIGHT
TZNAME:MDT
DTSTART:20310309T020000
TZOFFSETFROM:-0700
TZOFFSETTO:-0600
RDATE:20320314T020000
RDATE:20330313T020000
END:DAYLIGHT
END:VTIMEZONE
BEGIN:VEVENT
UID:a13b400d-5536-40b2-9739-2d8b2a9dff1e
DTSTAMP:20260425T195651Z
DESCRIPTION:Just like the real thing! Join us every Monday and Friday for a
  lively game of Wii Bowling. Never played before? No problem! Wii Bowling 
 is intuitive and easy to learn. Every week\, plenty of newcomers give it a
  try\, and some even get a few Strikes!
DTSTART;TZID=America/Denver:20311215T080000
DTEND;TZID=America/Denver:20311215T110000
LOCATION:247 N. Macdonald Street\, Mesa\, AL 85201 US
SUMMARY:Wii Bowling
END:VEVENT
END:VCALENDAR
