BEGIN:VCALENDAR
VERSION:2.0
PRODID:-//www.asteraz.org//NONSGML kigkonsult.se iCalcreator 2.30.10//
CALSCALE:GREGORIAN
METHOD:PUBLISH
UID:b23d8ef5-5d1f-4951-b970-0e5c9f540ab4
X-WR-CALDESC:Create beautiful art facilitated by Mesa Art League. \n\nThe M
 esa Art League offers a Veterans' Outreach Art Program to Veterans and the
 ir families.\n\nMeets on the 1st\, 2nd and 4th Thursday of the Month.\n\n
X-WR-RELCALID:3e6e6519f8d7c52a5405c10cb5fc3045
X-WR-TIMEZONE:America/Denver
BEGIN:VTIMEZONE
TZID:America/Denver
BEGIN:STANDARD
TZNAME:MST
DTSTART:20311102T020000
TZOFFSETFROM:-0600
TZOFFSETTO:-0700
RDATE:20321107T020000
END:STANDARD
BEGIN:DAYLIGHT
TZNAME:MDT
DTSTART:20310309T020000
TZOFFSETFROM:-0700
TZOFFSETTO:-0600
RDATE:20320314T020000
RDATE:20330313T020000
END:DAYLIGHT
END:VTIMEZONE
BEGIN:VEVENT
UID:7a9e4e7d-5088-4a74-9884-9541ff9fd62a
DTSTAMP:20260425T200228Z
DESCRIPTION:Create beautiful art facilitated by Mesa Art League. \n\nThe Me
 sa Art League offers a Veterans' Outreach Art Program to Veterans and thei
 r families.\n\nMeets on the 1st\, 2nd and 4th Thursday of the Month.\n\n
DTSTART;TZID=America/Denver:20311211T100000
DTEND;TZID=America/Denver:20311211T110000
LOCATION:Mesa Downtown
SUMMARY:DT Veterans Art
END:VEVENT
END:VCALENDAR
