BEGIN:VCALENDAR
VERSION:2.0
PRODID:-//www.asteraz.org//NONSGML kigkonsult.se iCalcreator 2.30.10//
CALSCALE:GREGORIAN
METHOD:PUBLISH
UID:7c8682e2-70f2-4cf1-be4c-7ccac167e814
X-WR-CALDESC:Enjoy adult coloring pages and listen to relaxing instrumental
  jazz every Thursday at the Red Mountain Senior Center.
X-WR-RELCALID:7ebe1dbe95c62beeb04889cd33da3ca2
X-WR-TIMEZONE:America/Denver
BEGIN:VTIMEZONE
TZID:America/Denver
BEGIN:STANDARD
TZNAME:MST
DTSTART:20311102T020000
TZOFFSETFROM:-0600
TZOFFSETTO:-0700
RDATE:20321107T020000
END:STANDARD
BEGIN:DAYLIGHT
TZNAME:MDT
DTSTART:20310309T020000
TZOFFSETFROM:-0700
TZOFFSETTO:-0600
RDATE:20320314T020000
RDATE:20330313T020000
END:DAYLIGHT
END:VTIMEZONE
BEGIN:VEVENT
UID:8a034a5e-37a5-4ded-a902-32978d4d80b4
DTSTAMP:20260425T201132Z
DESCRIPTION:Enjoy adult coloring pages and listen to relaxing instrumental 
 jazz every Thursday at the Red Mountain Senior Center.
DTSTART;TZID=America/Denver:20311211T093000
DTEND;TZID=America/Denver:20311211T103000
LOCATION:7550 East Adobe Street\, Mesa\, AZ 85207 US
SUMMARY:Red Mountain Coloring Lounge
END:VEVENT
END:VCALENDAR
