BEGIN:VCALENDAR
VERSION:2.0
PRODID:-//www.asteraz.org//NONSGML kigkonsult.se iCalcreator 2.30.10//
CALSCALE:GREGORIAN
METHOD:PUBLISH
UID:cb36a726-0730-4458-9b5c-51e61fc0e3c1
X-WR-CALDESC:Have fun golfing digitally with friends. No experience necessa
 ry! The 'Wii' is a Nintendo game console focused on gentle movement. It is
  easy and fun to play\, and the crew will be more than happy to show you t
 he ropes.
X-WR-RELCALID:9d3f45fb59a3b9d25938f724464e45f9
X-WR-TIMEZONE:America/Denver
BEGIN:VTIMEZONE
TZID:America/Denver
BEGIN:STANDARD
TZNAME:MST
DTSTART:20311102T020000
TZOFFSETFROM:-0600
TZOFFSETTO:-0700
RDATE:20321107T020000
END:STANDARD
BEGIN:DAYLIGHT
TZNAME:MDT
DTSTART:20310309T020000
TZOFFSETFROM:-0700
TZOFFSETTO:-0600
RDATE:20320314T020000
RDATE:20330313T020000
END:DAYLIGHT
END:VTIMEZONE
BEGIN:VEVENT
UID:17fec1df-a579-4f5b-8a5f-6b285dac4dd0
DTSTAMP:20260425T200033Z
DESCRIPTION:Have fun golfing digitally with friends. No experience necessar
 y! The 'Wii' is a Nintendo game console focused on gentle movement. It is 
 easy and fun to play\, and the crew will be more than happy to show you th
 e ropes.
DTSTART;TZID=America/Denver:20311211T080000
DTEND;TZID=America/Denver:20311211T110000
LOCATION:247 N. Macdonald Street\, Mesa\, AZ 85201 US
SUMMARY:Wii Golf
END:VEVENT
END:VCALENDAR
