BEGIN:VCALENDAR
VERSION:2.0
PRODID:-//www.asteraz.org//NONSGML kigkonsult.se iCalcreator 2.30.10//
CALSCALE:GREGORIAN
METHOD:PUBLISH
UID:1a96ce23-2007-4bc9-a48a-feb12ae308eb
X-WR-CALDESC:Join us to learn about bereavement and how to develop healthy 
 coping skills to deal with your loss. The group will provide support and h
 ope. Capacity is limited.\n\nFacilitated by EMPACT.
X-WR-RELCALID:152da267524cbe66156fc98ba5a18b42
X-WR-TIMEZONE:America/Denver
BEGIN:VTIMEZONE
TZID:America/Denver
BEGIN:STANDARD
TZNAME:MST
DTSTART:20311102T020000
TZOFFSETFROM:-0600
TZOFFSETTO:-0700
RDATE:20321107T020000
END:STANDARD
BEGIN:DAYLIGHT
TZNAME:MDT
DTSTART:20310309T020000
TZOFFSETFROM:-0700
TZOFFSETTO:-0600
RDATE:20320314T020000
RDATE:20330313T020000
END:DAYLIGHT
END:VTIMEZONE
BEGIN:VEVENT
UID:cbb57e3a-0f57-4fb7-a1c1-3bf487fabbd9
DTSTAMP:20260425T195802Z
DESCRIPTION:Join us to learn about bereavement and how to develop healthy c
 oping skills to deal with your loss. The group will provide support and ho
 pe. Capacity is limited.\n\nFacilitated by EMPACT.
DTSTART;TZID=America/Denver:20311210T130000
DTEND;TZID=America/Denver:20311210T140000
LOCATION:Mesa Downtown Senior Center
SUMMARY:DT Grief & Loss Support
END:VEVENT
END:VCALENDAR
