BEGIN:VCALENDAR
VERSION:2.0
PRODID:-//www.asteraz.org//NONSGML kigkonsult.se iCalcreator 2.30.10//
CALSCALE:GREGORIAN
METHOD:PUBLISH
UID:db16dd35-59d9-4015-8c78-23fbd944de81
X-WR-CALDESC:Join us every Wednesday afternoon to play card and board games
 . Which games? You'll have to join us to find out!
X-WR-RELCALID:fc9cfaed1a1d9ee99eb3a97b7013461a
X-WR-TIMEZONE:America/Denver
BEGIN:VTIMEZONE
TZID:America/Denver
BEGIN:STANDARD
TZNAME:MST
DTSTART:20311102T020000
TZOFFSETFROM:-0600
TZOFFSETTO:-0700
RDATE:20321107T020000
END:STANDARD
BEGIN:DAYLIGHT
TZNAME:MDT
DTSTART:20310309T020000
TZOFFSETFROM:-0700
TZOFFSETTO:-0600
RDATE:20320314T020000
RDATE:20330313T020000
END:DAYLIGHT
END:VTIMEZONE
BEGIN:VEVENT
UID:336e2797-91f1-4b80-8dad-c699639797d0
DTSTAMP:20260425T200142Z
DESCRIPTION:Join us every Wednesday afternoon to play card and board games.
  Which games? You'll have to join us to find out!
DTSTART;TZID=America/Denver:20311210T123000
DTEND;TZID=America/Denver:20311210T150000
LOCATION:7550 East Adobe Street\, Mesa\, AZ 85207 US
SUMMARY:Whatever Games We Play
END:VEVENT
END:VCALENDAR
