BEGIN:VCALENDAR
VERSION:2.0
PRODID:-//www.asteraz.org//NONSGML kigkonsult.se iCalcreator 2.30.10//
CALSCALE:GREGORIAN
METHOD:PUBLISH
UID:b7157caf-f18a-46ab-9a50-95f32439c417
X-WR-CALDESC:Join Aster's Downtown Mesa Senior Center every Wednesday and p
 lay Bingo for fun. RSVP to the Center in advance\, as spots are limited.
X-WR-RELCALID:ef4e75fe767951ccbe9b97c204fac7e9
X-WR-TIMEZONE:America/Denver
BEGIN:VTIMEZONE
TZID:America/Denver
BEGIN:STANDARD
TZNAME:MST
DTSTART:20311102T020000
TZOFFSETFROM:-0600
TZOFFSETTO:-0700
RDATE:20321107T020000
END:STANDARD
BEGIN:DAYLIGHT
TZNAME:MDT
DTSTART:20310309T020000
TZOFFSETFROM:-0700
TZOFFSETTO:-0600
RDATE:20320314T020000
RDATE:20330313T020000
END:DAYLIGHT
END:VTIMEZONE
BEGIN:VEVENT
UID:40ae91cf-c43c-44b4-8fef-bf91bee5e4dd
DTSTAMP:20260425T195818Z
DESCRIPTION:Join Aster's Downtown Mesa Senior Center every Wednesday and pl
 ay Bingo for fun. RSVP to the Center in advance\, as spots are limited.
DTSTART;TZID=America/Denver:20311210T123000
DTEND;TZID=America/Denver:20311210T150000
LOCATION:247 N. Macdonald Street\, Mesa\, AZ 85201 US
SUMMARY:Bingo! For Fun
END:VEVENT
END:VCALENDAR
