BEGIN:VCALENDAR
VERSION:2.0
PRODID:-//www.asteraz.org//NONSGML kigkonsult.se iCalcreator 2.30.10//
CALSCALE:GREGORIAN
METHOD:PUBLISH
UID:b0cc25ed-5655-4a3e-b6a7-edbe46be9ac6
X-WR-CALDESC:Cost: $25/month plus supplies\n\nJoin us for an adventure in a
 ll things quilting! Instructor Clarice will teach quilters of all levels. 
 Limited spots\, RSVP for more info.
X-WR-RELCALID:b129ef2b7a034f01897c9d5b5c6a28c2
X-WR-TIMEZONE:America/Denver
BEGIN:VTIMEZONE
TZID:America/Denver
BEGIN:STANDARD
TZNAME:MST
DTSTART:20311102T020000
TZOFFSETFROM:-0600
TZOFFSETTO:-0700
RDATE:20321107T020000
END:STANDARD
BEGIN:DAYLIGHT
TZNAME:MDT
DTSTART:20310309T020000
TZOFFSETFROM:-0700
TZOFFSETTO:-0600
RDATE:20320314T020000
RDATE:20330313T020000
END:DAYLIGHT
END:VTIMEZONE
BEGIN:VEVENT
UID:8cf28208-e525-4092-8721-1ff36fffe169
DTSTAMP:20260425T195545Z
DESCRIPTION:Cost: $25/month plus supplies\n\nJoin us for an adventure in al
 l things quilting! Instructor Clarice will teach quilters of all levels. L
 imited spots\, RSVP for more info.
DTSTART;TZID=America/Denver:20311210T120000
DTEND;TZID=America/Denver:20311210T150000
LOCATION:247 N. Macdonald Street\, Mesa\, AZ 85201 US
SUMMARY:Quilting Class
END:VEVENT
END:VCALENDAR
