BEGIN:VCALENDAR
VERSION:2.0
PRODID:-//www.asteraz.org//NONSGML kigkonsult.se iCalcreator 2.30.10//
CALSCALE:GREGORIAN
METHOD:PUBLISH
UID:5f415252-3bef-4f40-9d2a-633f7646ea95
X-WR-CALDESC:Join us for a relaxing walk while chatting with each other eve
 ry second and fourth Wednesday of the month at the Red Mountain Senior Cen
 ter.
X-WR-RELCALID:7f6ed816633e1c9926d302667e55d488
X-WR-TIMEZONE:America/Denver
BEGIN:VTIMEZONE
TZID:America/Denver
BEGIN:STANDARD
TZNAME:MST
DTSTART:20311102T020000
TZOFFSETFROM:-0600
TZOFFSETTO:-0700
RDATE:20321107T020000
END:STANDARD
BEGIN:DAYLIGHT
TZNAME:MDT
DTSTART:20310309T020000
TZOFFSETFROM:-0700
TZOFFSETTO:-0600
RDATE:20320314T020000
RDATE:20330313T020000
END:DAYLIGHT
END:VTIMEZONE
BEGIN:VEVENT
UID:b46079ad-b4b4-4923-9088-f4a7c541351c
DTSTAMP:20260425T200132Z
DESCRIPTION:Join us for a relaxing walk while chatting with each other ever
 y second and fourth Wednesday of the month at the Red Mountain Senior Cent
 er.
DTSTART;TZID=America/Denver:20311210T093000
DTEND;TZID=America/Denver:20311210T103000
LOCATION:7550 East Adobe Street\, Mesa\, AZ 85207 US
SUMMARY:Walkie Talkie
END:VEVENT
END:VCALENDAR
