BEGIN:VCALENDAR
VERSION:2.0
PRODID:-//www.asteraz.org//NONSGML kigkonsult.se iCalcreator 2.30.10//
CALSCALE:GREGORIAN
METHOD:PUBLISH
UID:a672ffe4-bdc1-49bc-82c5-47b1703ca4cd
X-WR-CALDESC:A weekly group for people with hearing issues to chat and shar
 e their experiences.
X-WR-RELCALID:5f693a5d1d8a6492d58af29cfcf89f00
X-WR-TIMEZONE:America/Denver
BEGIN:VTIMEZONE
TZID:America/Denver
BEGIN:STANDARD
TZNAME:MST
DTSTART:20311102T020000
TZOFFSETFROM:-0600
TZOFFSETTO:-0700
RDATE:20321107T020000
END:STANDARD
BEGIN:DAYLIGHT
TZNAME:MDT
DTSTART:20310309T020000
TZOFFSETFROM:-0700
TZOFFSETTO:-0600
RDATE:20320314T020000
RDATE:20330313T020000
END:DAYLIGHT
END:VTIMEZONE
BEGIN:VEVENT
UID:3e3d71dd-caab-43b3-bcc0-80a463b70dff
DTSTAMP:20260425T195355Z
DESCRIPTION:A weekly group for people with hearing issues to chat and share
  their experiences.
DTSTART;TZID=America/Denver:20311209T103000
DTEND;TZID=America/Denver:20311209T150000
LOCATION:7550 East Adobe Street\, Mesa\, AZ 85207 US
SUMMARY:Deaf Support Group
END:VEVENT
END:VCALENDAR
