BEGIN:VCALENDAR
VERSION:2.0
PRODID:-//www.asteraz.org//NONSGML kigkonsult.se iCalcreator 2.30.10//
CALSCALE:GREGORIAN
METHOD:PUBLISH
UID:0859c852-6966-4020-a159-718776a9f296
X-WR-CALDESC:Enjoy good company while crafting creative pieces.
X-WR-RELCALID:1b531002692fa84e322c5b360cc7c012
X-WR-TIMEZONE:America/Denver
BEGIN:VTIMEZONE
TZID:America/Denver
BEGIN:STANDARD
TZNAME:MST
DTSTART:20311102T020000
TZOFFSETFROM:-0600
TZOFFSETTO:-0700
RDATE:20321107T020000
END:STANDARD
BEGIN:DAYLIGHT
TZNAME:MDT
DTSTART:20310309T020000
TZOFFSETFROM:-0700
TZOFFSETTO:-0600
RDATE:20320314T020000
RDATE:20330313T020000
END:DAYLIGHT
END:VTIMEZONE
BEGIN:VEVENT
UID:aac6deec-bacd-4218-905f-992edb5525da
DTSTAMP:20260425T201014Z
DESCRIPTION:Enjoy good company while crafting creative pieces.
DTSTART;TZID=America/Denver:20311209T083000
DTEND;TZID=America/Denver:20311209T120000
LOCATION:7550 East Adobe Street\, Mesa\, AZ 85207 US
SUMMARY:Stitch & Chat at the Aster Red Mountain Senior Center
END:VEVENT
END:VCALENDAR
