BEGIN:VCALENDAR
VERSION:2.0
PRODID:-//www.asteraz.org//NONSGML kigkonsult.se iCalcreator 2.30.10//
CALSCALE:GREGORIAN
METHOD:PUBLISH
UID:c1da990f-b11d-4c9c-ae28-d2388b85d511
X-WR-CALDESC:Create magical diamond art!
X-WR-RELCALID:a2df4c91abb638b3f804a21ce97d5482
X-WR-TIMEZONE:America/Denver
BEGIN:VTIMEZONE
TZID:America/Denver
BEGIN:STANDARD
TZNAME:MST
DTSTART:20311102T020000
TZOFFSETFROM:-0600
TZOFFSETTO:-0700
RDATE:20321107T020000
END:STANDARD
BEGIN:DAYLIGHT
TZNAME:MDT
DTSTART:20310309T020000
TZOFFSETFROM:-0700
TZOFFSETTO:-0600
RDATE:20320314T020000
RDATE:20330313T020000
END:DAYLIGHT
END:VTIMEZONE
BEGIN:VEVENT
UID:d7405e02-56aa-4b6d-ba71-e8fe85bb250b
DTSTAMP:20260425T195700Z
DESCRIPTION:Create magical diamond art!
DTSTART;TZID=America/Denver:20311208T123000
DTEND;TZID=America/Denver:20311208T150000
LOCATION:7550 East Adobe Street\, Mesa\, AZ 85207 US
SUMMARY:Diamond Art
END:VEVENT
END:VCALENDAR
