BEGIN:VCALENDAR
VERSION:2.0
PRODID:-//www.asteraz.org//NONSGML kigkonsult.se iCalcreator 2.30.10//
CALSCALE:GREGORIAN
METHOD:PUBLISH
UID:86b1e2d2-7df9-4b9f-8a6d-283b7c788173
X-WR-CALDESC:Learn gentle movement and focused breathing exercises.
X-WR-RELCALID:6ff3740a2ad164fb2c4e3478bf16c2ae
X-WR-TIMEZONE:America/Denver
BEGIN:VTIMEZONE
TZID:America/Denver
BEGIN:STANDARD
TZNAME:MST
DTSTART:20311102T020000
TZOFFSETFROM:-0600
TZOFFSETTO:-0700
RDATE:20321107T020000
END:STANDARD
BEGIN:DAYLIGHT
TZNAME:MDT
DTSTART:20310309T020000
TZOFFSETFROM:-0700
TZOFFSETTO:-0600
RDATE:20320314T020000
RDATE:20330313T020000
END:DAYLIGHT
END:VTIMEZONE
BEGIN:VEVENT
UID:dcd1bac2-b73a-4a0d-8831-1fb659a2a022
DTSTAMP:20260425T200140Z
DESCRIPTION:Learn gentle movement and focused breathing exercises.
DTSTART;TZID=America/Denver:20311205T094500
DTEND;TZID=America/Denver:20311205T104500
LOCATION:Mesa Downtown
SUMMARY:DT Qigong
END:VEVENT
END:VCALENDAR
