BEGIN:VCALENDAR
VERSION:2.0
PRODID:-//www.asteraz.org//NONSGML kigkonsult.se iCalcreator 2.30.10//
CALSCALE:GREGORIAN
METHOD:PUBLISH
UID:87355a8c-4df0-4c00-843b-5c5816eb44f1
X-WR-CALDESC:Get your day moving in the right direction with some exercise!
  This event is free to attend but does require pre-registration and has li
 mited capacity.
X-WR-RELCALID:adc42584a612ebfc31858dbb93a160d5
X-WR-TIMEZONE:America/Denver
BEGIN:VTIMEZONE
TZID:America/Denver
BEGIN:STANDARD
TZNAME:MST
DTSTART:20311102T020000
TZOFFSETFROM:-0600
TZOFFSETTO:-0700
RDATE:20321107T020000
END:STANDARD
BEGIN:DAYLIGHT
TZNAME:MDT
DTSTART:20310309T020000
TZOFFSETFROM:-0700
TZOFFSETTO:-0600
RDATE:20320314T020000
RDATE:20330313T020000
END:DAYLIGHT
END:VTIMEZONE
BEGIN:VEVENT
UID:76fff0ff-f93a-4bcd-994a-3a637f7848a5
DTSTAMP:20260425T195415Z
DESCRIPTION:Get your day moving in the right direction with some exercise! 
 This event is free to attend but does require pre-registration and has lim
 ited capacity.
DTSTART;TZID=America/Denver:20311205T081500
DTEND;TZID=America/Denver:20311205T090000
LOCATION:7550 East Adobe Street\, Mesa\, AZ 85207 US
SUMMARY:RM Stretch & Flex
END:VEVENT
END:VCALENDAR
