BEGIN:VCALENDAR
VERSION:2.0
PRODID:-//www.asteraz.org//NONSGML kigkonsult.se iCalcreator 2.30.10//
CALSCALE:GREGORIAN
METHOD:PUBLISH
UID:e4e7a271-51f3-4e9a-81d5-927d10925771
X-WR-CALDESC:Pinochle\, also called pinocle or penuchle\, is a trick-taking
  ace–ten card game. It's a whole lot of fun\, and we'd love if you joined 
 us every Tuesday and Thursday for our games at the Mesa Downtown Senior Ce
 nter!
X-WR-RELCALID:1788f8845e031b97b1867887e45bc253
X-WR-TIMEZONE:America/Denver
BEGIN:VTIMEZONE
TZID:America/Denver
BEGIN:STANDARD
TZNAME:MST
DTSTART:20311102T020000
TZOFFSETFROM:-0600
TZOFFSETTO:-0700
RDATE:20321107T020000
END:STANDARD
BEGIN:DAYLIGHT
TZNAME:MDT
DTSTART:20310309T020000
TZOFFSETFROM:-0700
TZOFFSETTO:-0600
RDATE:20320314T020000
RDATE:20330313T020000
END:DAYLIGHT
END:VTIMEZONE
BEGIN:VEVENT
UID:e5e6bc2a-9a6f-4a51-b5d9-ee0bf0e79b39
DTSTAMP:20260425T200606Z
DESCRIPTION:Pinochle\, also called pinocle or penuchle\, is a trick-taking 
 ace–ten card game. It's a whole lot of fun\, and we'd love if you joined u
 s every Tuesday and Thursday for our games at the Mesa Downtown Senior Cen
 ter!
DTSTART;TZID=America/Denver:20311204T123000
DTEND;TZID=America/Denver:20311204T150000
LOCATION:247 N. Macdonald Street\, Mesa\, AZ 85201 US
SUMMARY:Pinochle
END:VEVENT
END:VCALENDAR
