BEGIN:VCALENDAR
VERSION:2.0
PRODID:-//www.asteraz.org//NONSGML kigkonsult.se iCalcreator 2.30.10//
CALSCALE:GREGORIAN
METHOD:PUBLISH
UID:2180a71e-b8fb-466f-86cf-1aad519a7552
X-WR-CALDESC:Enjoy adult coloring pages and listen to relaxing instrumental
  jazz every Thursday at the Red Mountain Senior Center.
X-WR-RELCALID:660522c765ad0cb8bebc4881004a158b
X-WR-TIMEZONE:America/Denver
BEGIN:VTIMEZONE
TZID:America/Denver
BEGIN:STANDARD
TZNAME:MST
DTSTART:20311102T020000
TZOFFSETFROM:-0600
TZOFFSETTO:-0700
RDATE:20321107T020000
END:STANDARD
BEGIN:DAYLIGHT
TZNAME:MDT
DTSTART:20310309T020000
TZOFFSETFROM:-0700
TZOFFSETTO:-0600
RDATE:20320314T020000
RDATE:20330313T020000
END:DAYLIGHT
END:VTIMEZONE
BEGIN:VEVENT
UID:340314d6-3897-43ac-8f61-1386e8a9953f
DTSTAMP:20260425T200316Z
DESCRIPTION:Enjoy adult coloring pages and listen to relaxing instrumental 
 jazz every Thursday at the Red Mountain Senior Center.
DTSTART;TZID=America/Denver:20311204T093000
DTEND;TZID=America/Denver:20311204T103000
LOCATION:7550 East Adobe Street\, Mesa\, AZ 85207 US
SUMMARY:Red Mountain Coloring Lounge
END:VEVENT
END:VCALENDAR
