BEGIN:VCALENDAR
VERSION:2.0
PRODID:-//www.asteraz.org//NONSGML kigkonsult.se iCalcreator 2.30.10//
CALSCALE:GREGORIAN
METHOD:PUBLISH
UID:4bf10a2c-3701-4f82-8ed1-31d06af64f92
X-WR-CALDESC:Dominoes\, puzzles\, board games\, cards\, & more! Join us at 
 the Mesa Downtown Senior Center every Thursday morning for lively conversa
 tion and fun games.
X-WR-RELCALID:343322b159224bae220556938195371e
X-WR-TIMEZONE:America/Denver
BEGIN:VTIMEZONE
TZID:America/Denver
BEGIN:STANDARD
TZNAME:MST
DTSTART:20311102T020000
TZOFFSETFROM:-0600
TZOFFSETTO:-0700
RDATE:20321107T020000
END:STANDARD
BEGIN:DAYLIGHT
TZNAME:MDT
DTSTART:20310309T020000
TZOFFSETFROM:-0700
TZOFFSETTO:-0600
RDATE:20320314T020000
RDATE:20330313T020000
END:DAYLIGHT
END:VTIMEZONE
BEGIN:VEVENT
UID:79e44100-3c66-4c1d-bda8-66fba38cb634
DTSTAMP:20260425T195547Z
DESCRIPTION:Dominoes\, puzzles\, board games\, cards\, & more! Join us at t
 he Mesa Downtown Senior Center every Thursday morning for lively conversat
 ion and fun games.
DTSTART;TZID=America/Denver:20311204T093000
DTEND;TZID=America/Denver:20311204T103000
LOCATION:247 N. Macdonald Street\, Mesa\, AL 85201 US
SUMMARY:Fun & Games
END:VEVENT
END:VCALENDAR
