BEGIN:VCALENDAR
VERSION:2.0
PRODID:-//www.asteraz.org//NONSGML kigkonsult.se iCalcreator 2.30.10//
CALSCALE:GREGORIAN
METHOD:PUBLISH
UID:10547224-e3b2-4114-a820-a3fa3b08e484
X-WR-CALDESC:Join us for a fun game of Canasta every Wednesday and Friday a
 fternoon at the Red Mountain Senior Center.
X-WR-RELCALID:1c6358cd4bd0f430c5a69bb6ca0026e2
X-WR-TIMEZONE:America/Denver
BEGIN:VTIMEZONE
TZID:America/Denver
BEGIN:STANDARD
TZNAME:MST
DTSTART:20311102T020000
TZOFFSETFROM:-0600
TZOFFSETTO:-0700
RDATE:20321107T020000
END:STANDARD
BEGIN:DAYLIGHT
TZNAME:MDT
DTSTART:20310309T020000
TZOFFSETFROM:-0700
TZOFFSETTO:-0600
RDATE:20320314T020000
RDATE:20330313T020000
END:DAYLIGHT
END:VTIMEZONE
BEGIN:VEVENT
UID:7b55b7a8-9cfc-4ab5-96c6-5d626c3dd6e9
DTSTAMP:20260425T200034Z
DESCRIPTION:Join us for a fun game of Canasta every Wednesday and Friday af
 ternoon at the Red Mountain Senior Center.
DTSTART;TZID=America/Denver:20311203T123000
DTEND;TZID=America/Denver:20311203T150000
LOCATION:7550 East Adobe Street\, Mesa\, AZ 85207 US
SUMMARY:Canasta
END:VEVENT
END:VCALENDAR
