BEGIN:VCALENDAR
VERSION:2.0
PRODID:-//www.asteraz.org//NONSGML kigkonsult.se iCalcreator 2.30.10//
CALSCALE:GREGORIAN
METHOD:PUBLISH
UID:9a098731-8db3-4702-9e85-179b54134115
X-WR-CALDESC:Learn about events and locations throughout history.\n\nCapaci
 ty is limited\, so RSVP to the Center today.
X-WR-RELCALID:4f79e9569eedec84ad78f10713a16fca
X-WR-TIMEZONE:America/Denver
BEGIN:VTIMEZONE
TZID:America/Denver
BEGIN:STANDARD
TZNAME:MST
DTSTART:20311102T020000
TZOFFSETFROM:-0600
TZOFFSETTO:-0700
RDATE:20321107T020000
END:STANDARD
BEGIN:DAYLIGHT
TZNAME:MDT
DTSTART:20310309T020000
TZOFFSETFROM:-0700
TZOFFSETTO:-0600
RDATE:20320314T020000
RDATE:20330313T020000
END:DAYLIGHT
END:VTIMEZONE
BEGIN:VEVENT
UID:068173b2-7c1f-4610-989e-d0ff6fef23d9
DTSTAMP:20260425T195419Z
DESCRIPTION:Learn about events and locations throughout history.\n\nCapacit
 y is limited\, so RSVP to the Center today.
DTSTART;TZID=America/Denver:20311202T140000
DTEND;TZID=America/Denver:20311202T150000
LOCATION:247 N. Macdonald Street\, Mesa\, AZ 85201 US
SUMMARY:History Class
END:VEVENT
END:VCALENDAR
