BEGIN:VCALENDAR
VERSION:2.0
PRODID:-//www.asteraz.org//NONSGML kigkonsult.se iCalcreator 2.30.10//
CALSCALE:GREGORIAN
METHOD:PUBLISH
UID:490156cb-18e0-4a40-88cf-df8f9346c36d
X-WR-CALDESC:Join us every Tuesday and Thursday in the Mesa Downtown Senior
  Center fitness center to connect with a fitness trainer to help you stay 
 in shape and reach your fitness goals.
X-WR-RELCALID:e3aa64b51377afab0731d97de63249c4
X-WR-TIMEZONE:America/Denver
BEGIN:VTIMEZONE
TZID:America/Denver
BEGIN:STANDARD
TZNAME:MST
DTSTART:20311102T020000
TZOFFSETFROM:-0600
TZOFFSETTO:-0700
RDATE:20321107T020000
END:STANDARD
BEGIN:DAYLIGHT
TZNAME:MDT
DTSTART:20310309T020000
TZOFFSETFROM:-0700
TZOFFSETTO:-0600
RDATE:20320314T020000
RDATE:20330313T020000
END:DAYLIGHT
END:VTIMEZONE
BEGIN:VEVENT
UID:0b2cc04e-5626-43de-8d54-b3781e4ad321
DTSTAMP:20260425T200706Z
DESCRIPTION:Join us every Tuesday and Thursday in the Mesa Downtown Senior 
 Center fitness center to connect with a fitness trainer to help you stay i
 n shape and reach your fitness goals.
DTSTART;TZID=America/Denver:20311202T103000
DTEND;TZID=America/Denver:20311202T140000
LOCATION:247 N. Macdonald Street\, Mesa\, AZ 85201 US
SUMMARY:Fitness Trainer
END:VEVENT
END:VCALENDAR
