BEGIN:VCALENDAR
VERSION:2.0
PRODID:-//www.asteraz.org//NONSGML kigkonsult.se iCalcreator 2.30.10//
CALSCALE:GREGORIAN
METHOD:PUBLISH
UID:0b7f731c-2f4f-4ca4-a95b-3d1c68b4d5a7
X-WR-CALDESC:Create magical diamond art!
X-WR-RELCALID:99495c117318400ca723bee91eed4a67
X-WR-TIMEZONE:America/Denver
BEGIN:VTIMEZONE
TZID:America/Denver
BEGIN:STANDARD
TZNAME:MST
DTSTART:20311102T020000
TZOFFSETFROM:-0600
TZOFFSETTO:-0700
RDATE:20321107T020000
END:STANDARD
BEGIN:DAYLIGHT
TZNAME:MDT
DTSTART:20310309T020000
TZOFFSETFROM:-0700
TZOFFSETTO:-0600
RDATE:20320314T020000
RDATE:20330313T020000
END:DAYLIGHT
END:VTIMEZONE
BEGIN:VEVENT
UID:0aacd59d-ebed-4069-9d07-a657f51961c6
DTSTAMP:20260425T195546Z
DESCRIPTION:Create magical diamond art!
DTSTART;TZID=America/Denver:20311201T123000
DTEND;TZID=America/Denver:20311201T150000
LOCATION:7550 East Adobe Street\, Mesa\, AZ 85207 US
SUMMARY:Diamond Art
END:VEVENT
END:VCALENDAR
