BEGIN:VCALENDAR
VERSION:2.0
PRODID:-//www.asteraz.org//NONSGML kigkonsult.se iCalcreator 2.30.10//
CALSCALE:GREGORIAN
METHOD:PUBLISH
UID:a6a476d0-da0b-4cfd-af69-1fd78a409520
X-WR-CALDESC:Join us every Monday morning for Mahjong for beginners at the 
 Mesa Red Mountain Senior Center.
X-WR-RELCALID:59a6867b49d77a23ac8b213f1ef79b62
X-WR-TIMEZONE:America/Denver
BEGIN:VTIMEZONE
TZID:America/Denver
BEGIN:STANDARD
TZNAME:MST
DTSTART:20311102T020000
TZOFFSETFROM:-0600
TZOFFSETTO:-0700
RDATE:20321107T020000
END:STANDARD
BEGIN:DAYLIGHT
TZNAME:MDT
DTSTART:20310309T020000
TZOFFSETFROM:-0700
TZOFFSETTO:-0600
RDATE:20320314T020000
RDATE:20330313T020000
END:DAYLIGHT
END:VTIMEZONE
BEGIN:VEVENT
UID:0f4bc089-1c86-4a2f-aeed-f58bb5e8b983
DTSTAMP:20260425T195801Z
DESCRIPTION:Join us every Monday morning for Mahjong for beginners at the M
 esa Red Mountain Senior Center.
DTSTART;TZID=America/Denver:20311201T093000
DTEND;TZID=America/Denver:20311201T120000
LOCATION:7550 East Adobe Street\, Mesa\, AZ 85207 US
SUMMARY:Mahjong for Beginners
END:VEVENT
END:VCALENDAR
