BEGIN:VCALENDAR
VERSION:2.0
PRODID:-//www.asteraz.org//NONSGML kigkonsult.se iCalcreator 2.30.10//
CALSCALE:GREGORIAN
METHOD:PUBLISH
UID:92799904-42cc-4d46-87dc-52320e7c419c
X-WR-CALDESC:Join the guys to make new friends.
X-WR-RELCALID:c2e2ae66713bf40a390447d749e5c4e6
X-WR-TIMEZONE:America/Denver
BEGIN:VTIMEZONE
TZID:America/Denver
BEGIN:STANDARD
TZNAME:MST
DTSTART:20311102T020000
TZOFFSETFROM:-0600
TZOFFSETTO:-0700
RDATE:20321107T020000
END:STANDARD
BEGIN:DAYLIGHT
TZNAME:MDT
DTSTART:20310309T020000
TZOFFSETFROM:-0700
TZOFFSETTO:-0600
RDATE:20320314T020000
RDATE:20330313T020000
END:DAYLIGHT
END:VTIMEZONE
BEGIN:VEVENT
UID:0044dd5a-2bd5-47d6-a05c-83fc471452b4
DTSTAMP:20260425T171433Z
DESCRIPTION:Join the guys to make new friends.
DTSTART;TZID=America/Denver:20311127T123000
DTEND;TZID=America/Denver:20311127T133000
LOCATION:7550 East Adobe Street\, Mesa\, AZ 85207 US
SUMMARY:The Men's Crew
END:VEVENT
END:VCALENDAR
