BEGIN:VCALENDAR
VERSION:2.0
PRODID:-//www.asteraz.org//NONSGML kigkonsult.se iCalcreator 2.30.10//
CALSCALE:GREGORIAN
METHOD:PUBLISH
UID:545a6f6d-5710-4202-b508-6a33ac94cfb5
X-WR-CALDESC:Pinochle\, also called pinocle or penuchle\, is a trick-taking
  ace–ten card game. It's a whole lot of fun\, and we'd love if you joined 
 us every Tuesday and Thursday for our games at the Mesa Downtown Senior Ce
 nter!
X-WR-RELCALID:cd0b4eb175c61b265486e955173a7571
X-WR-TIMEZONE:America/Denver
BEGIN:VTIMEZONE
TZID:America/Denver
BEGIN:STANDARD
TZNAME:MST
DTSTART:20311102T020000
TZOFFSETFROM:-0600
TZOFFSETTO:-0700
RDATE:20321107T020000
END:STANDARD
BEGIN:DAYLIGHT
TZNAME:MDT
DTSTART:20310309T020000
TZOFFSETFROM:-0700
TZOFFSETTO:-0600
RDATE:20320314T020000
RDATE:20330313T020000
END:DAYLIGHT
END:VTIMEZONE
BEGIN:VEVENT
UID:ecbeaa59-7a9b-4c62-ab8d-9584c7139356
DTSTAMP:20260425T171025Z
DESCRIPTION:Pinochle\, also called pinocle or penuchle\, is a trick-taking 
 ace–ten card game. It's a whole lot of fun\, and we'd love if you joined u
 s every Tuesday and Thursday for our games at the Mesa Downtown Senior Cen
 ter!
DTSTART;TZID=America/Denver:20311127T123000
DTEND;TZID=America/Denver:20311127T150000
LOCATION:247 N. Macdonald Street\, Mesa\, AZ 85201 US
SUMMARY:Pinochle
END:VEVENT
END:VCALENDAR
