BEGIN:VCALENDAR
VERSION:2.0
PRODID:-//www.asteraz.org//NONSGML kigkonsult.se iCalcreator 2.30.10//
CALSCALE:GREGORIAN
METHOD:PUBLISH
UID:913bf766-1b77-4a50-ad30-93cf2cfc8aa7
X-WR-CALDESC:Join us every Thursday at the Red Mountain Senior Center for a
  fun game of Mexican Train Dominoes. No experience? No problem! We're here
  to have fun.
X-WR-RELCALID:31079a1c0f270581e284a17ec94a40c4
X-WR-TIMEZONE:America/Denver
BEGIN:VTIMEZONE
TZID:America/Denver
BEGIN:STANDARD
TZNAME:MST
DTSTART:20311102T020000
TZOFFSETFROM:-0600
TZOFFSETTO:-0700
RDATE:20321107T020000
END:STANDARD
BEGIN:DAYLIGHT
TZNAME:MDT
DTSTART:20310309T020000
TZOFFSETFROM:-0700
TZOFFSETTO:-0600
RDATE:20320314T020000
RDATE:20330313T020000
END:DAYLIGHT
END:VTIMEZONE
BEGIN:VEVENT
UID:93c06ec5-c29c-4161-bc52-2a6a1231a71c
DTSTAMP:20260425T171121Z
DESCRIPTION:Join us every Thursday at the Red Mountain Senior Center for a 
 fun game of Mexican Train Dominoes. No experience? No problem! We're here 
 to have fun.
DTSTART;TZID=America/Denver:20311127T123000
DTEND;TZID=America/Denver:20311127T153000
LOCATION:7550 East Adobe Street\, Mesa\, AZ 85207 US
SUMMARY:Mexican Train Dominoes
END:VEVENT
END:VCALENDAR
