BEGIN:VCALENDAR
VERSION:2.0
PRODID:-//www.asteraz.org//NONSGML kigkonsult.se iCalcreator 2.30.10//
CALSCALE:GREGORIAN
METHOD:PUBLISH
UID:68f6b1ce-c460-4fb4-9c89-989152aedca1
X-WR-CALDESC:Join us every day from 10:00 am to 3:00 pm for an exciting gam
 e of billiards at Mesa's Downtown Senior Center. Our pool tables just got 
 resurfaced\, and they're as good as new.
X-WR-RELCALID:ceb7fae9d02807232ed2ee733a6d8620
X-WR-TIMEZONE:America/Denver
BEGIN:VTIMEZONE
TZID:America/Denver
BEGIN:STANDARD
TZNAME:MST
DTSTART:20311102T020000
TZOFFSETFROM:-0600
TZOFFSETTO:-0700
RDATE:20321107T020000
END:STANDARD
BEGIN:DAYLIGHT
TZNAME:MDT
DTSTART:20310309T020000
TZOFFSETFROM:-0700
TZOFFSETTO:-0600
RDATE:20320314T020000
RDATE:20330313T020000
END:DAYLIGHT
END:VTIMEZONE
BEGIN:VEVENT
UID:dfbee268-67d0-4246-be18-e50ae07d8e0a
DTSTAMP:20260425T171823Z
DESCRIPTION:Join us every day from 10:00 am to 3:00 pm for an exciting game
  of billiards at Mesa's Downtown Senior Center. Our pool tables just got r
 esurfaced\, and they're as good as new.
DTSTART;TZID=America/Denver:20311127T100000
DTEND;TZID=America/Denver:20311127T150000
LOCATION:247 N. Macdonald Street\, Mesa\, AZ 85201 US
SUMMARY:Billiards at the Mesa Downtown Senior Center
END:VEVENT
END:VCALENDAR
